BEGIN:VCALENDAR
VERSION:2.0
PRODID:-//Tapoban - ECPv6.9.0//NONSGML v1.0//EN
CALSCALE:GREGORIAN
METHOD:PUBLISH
X-ORIGINAL-URL:https://tapoban.com
X-WR-CALDESC:Events for Tapoban
REFRESH-INTERVAL;VALUE=DURATION:PT1H
X-Robots-Tag:noindex
X-PUBLISHED-TTL:PT1H
BEGIN:VTIMEZONE
TZID:Asia/Kathmandu
BEGIN:STANDARD
TZOFFSETFROM:+0545
TZOFFSETTO:+0545
TZNAME:+0545
DTSTART:20250101T000000
END:STANDARD
END:VTIMEZONE
BEGIN:VEVENT
DTSTART;VALUE=DATE:20250116
DTEND;VALUE=DATE:20250121
DTSTAMP:20260424T074511
CREATED:20241223T104554Z
LAST-MODIFIED:20250114T071646Z
UID:10000077-1736985600-1737417599@tapoban.com
SUMMARY:6th Osho Mega Meditation Camp | Mumbai
DESCRIPTION:[vc_row type=”in_container” full_screen_row_position=”middle” column_margin=”default” column_direction=”default” column_direction_tablet=”default” column_direction_phone=”default” scene_position=”center” text_color=”dark” text_align=”left” row_border_radius=”none” row_border_radius_applies=”bg” overflow=”visible” overlay_strength=”0.3″ gradient_direction=”left_to_right” shape_divider_position=”bottom” bg_image_animation=”none”][vc_column column_padding=”no-extra-padding” column_padding_tablet=”inherit” column_padding_phone=”inherit” column_padding_position=”all” column_element_direction_desktop=”default” column_element_spacing=”default” desktop_text_alignment=”default” tablet_text_alignment=”default” phone_text_alignment=”default” background_color_opacity=”1″ background_hover_color_opacity=”1″ column_backdrop_filter=”none” column_shadow=”none” column_border_radius=”none” column_link_target=”_self” column_position=”default” gradient_direction=”left_to_right” overlay_strength=”0.3″ width=”2/3″ tablet_width_inherit=”default” animation_type=”default” bg_image_animation=”none” border_type=”simple” column_border_width=”none” column_border_style=”solid”][vc_row_inner column_margin=”default” column_direction=”default” column_direction_tablet=”default” column_direction_phone=”default” text_align=”left” row_position=”default” row_position_tablet=”inherit” row_position_phone=”inherit” overflow=”visible” pointer_events=”all”][vc_column_inner column_padding=”no-extra-padding” column_padding_tablet=”inherit” column_padding_phone=”inherit” column_padding_position=”all” column_element_direction_desktop=”default” column_element_spacing=”default” desktop_text_alignment=”default” tablet_text_alignment=”default” phone_text_alignment=”default” background_color_opacity=”1″ background_hover_color_opacity=”1″ column_backdrop_filter=”none” column_shadow=”none” column_border_radius=”none” column_link_target=”_self” overflow=”visible” gradient_direction=”left_to_right” overlay_strength=”0.3″ width=”1/2″ tablet_width_inherit=”default” animation_type=”default” bg_image_animation=”none” border_type=”simple” column_border_width=”none” column_border_style=”solid” column_padding_type=”default” gradient_type=”default” offset=”vc_hidden-lg vc_hidden-md vc_hidden-sm vc_hidden-xs”][/vc_column_inner][vc_column_inner column_padding=”no-extra-padding” column_padding_tablet=”inherit” column_padding_phone=”inherit” column_padding_position=”all” column_element_direction_desktop=”default” column_element_spacing=”default” desktop_text_alignment=”default” tablet_text_alignment=”default” phone_text_alignment=”default” background_color_opacity=”1″ background_hover_color_opacity=”1″ column_backdrop_filter=”none” column_shadow=”none” column_border_radius=”none” column_link_target=”_self” overflow=”visible” gradient_direction=”left_to_right” overlay_strength=”0.3″ width=”1/2″ tablet_width_inherit=”default” animation_type=”default” bg_image_animation=”none” border_type=”simple” column_border_width=”none” column_border_style=”solid”][vc_column_text css=”” text_direction=”default”]\n                    \n                \n        \n\n            \n                \n                                    \n                \n                    \n                        Osho Tapoban\n                        \n                        Online\n                    \n                    \n                    WA : +9779847807082\n                    Need Help? Chat us via WhatsApp\n                \n                Chat\n            \n        \n                                    \n        [/vc_column_text][/vc_column_inner][/vc_row_inner][vc_column_text css=”” text_direction=”default”]\nDate: 16th Jan 4 PM – 20th Jan 10 AM\nLocation: Gagangiri Maharaj Ashram\, Khopoli (just 2 hours away from Mumbai by taxi/train)\nWe warmly invite you to join us for the 6th Osho Mega Meditation Camp. This magical gathering\, held in the vibrant city of Mumbai\, is a unique opportunity for everyone—whether you are a curious beginner or a seasoned sannyasi. \nUnder the gentle guidance of Swami Anand Arun\, who has been immersed in Osho’s wisdom for over 55 years and has touched the lives of 100\,000 individuals through more than 5000 camps worldwide\, you will find a space to explore your innermost self. For more info on swami Anand Arun\, https://tapoban.com/swamianandarun/ \nWhat Awaits You\n\nDive into transformative Osho meditations that awaken the spirit and soothe the soul.\nListen to rare Osho stories that inspire and illuminate the path of love and awareness.\nEngage in profound conversations with Swamijee\, where you can ask your deeper inner questions and receive guidance.\nExperience powerful Osho’s shaktipath\nMeditate in a loving sangha\, surrounded by warmth and shared intentions.\nSavor the delight of great food and a nurturing ambience that enhances your experience.\n\nJoin us as we create a sanctuary for exploration\, connection\, and transformation. Together\, in this loving environment\, we will celebrate the essence of life and our shared journey. \nSpaces are limited\, so please reserve your spot with love and intention. We are excited to share this sacred time together\, nurturing our hearts and souls through meditation and community. \nFor registration and more information\, reach out to admin team:\n9821053482 – Swami Anand Kamlesh\n9038084166 – Swami Shashikant\n9820043576 – Ma Arati Razdan\n7045182922 – Swami Paresh\n9534386888 – Swami Arvind \nCamp Contribution:\nRs.5\,000/- per person (4 sharing).\nRs.6\,750/-per person (3 sharing)\nSeats limited\, to reserve\, scan the QR Code today\nRs.10\,000/-per person (2 sharing)[/vc_column_text][divider line_type=”No Line”][vc_row_inner column_margin=”default” column_direction=”default” column_direction_tablet=”default” column_direction_phone=”default” text_align=”left” row_position=”default” row_position_tablet=”inherit” row_position_phone=”inherit” overflow=”visible” pointer_events=”all”][vc_column_inner column_padding=”no-extra-padding” column_padding_tablet=”inherit” column_padding_phone=”inherit” column_padding_position=”all” column_element_direction_desktop=”default” column_element_spacing=”default” desktop_text_alignment=”default” tablet_text_alignment=”default” phone_text_alignment=”default” background_color_opacity=”1″ background_hover_color_opacity=”1″ column_backdrop_filter=”none” column_shadow=”none” column_border_radius=”none” column_link_target=”_self” overflow=”visible” gradient_direction=”left_to_right” overlay_strength=”0.3″ width=”1/1″ tablet_width_inherit=”default” animation_type=”default” bg_image_animation=”none” border_type=”simple” column_border_width=”none” column_border_style=”solid”][vc_column_text css=”” text_direction=”default”]\n                    \n                \n        \n\n            \n                \n                                    \n                \n                    \n                        Osho Tapoban\n                        \n                        Online\n                    \n                    \n                    WA : +9779847807082\n                    Need Help? Chat us via WhatsApp\n                \n                Chat\n            \n        \n                                    \n        \n[/vc_column_text][/vc_column_inner][/vc_row_inner][/vc_column][vc_column column_padding=”no-extra-padding” column_padding_tablet=”inherit” column_padding_phone=”inherit” column_padding_position=”all” column_element_direction_desktop=”default” column_element_spacing=”default” desktop_text_alignment=”default” tablet_text_alignment=”default” phone_text_alignment=”default” background_color_opacity=”1″ background_hover_color_opacity=”1″ column_backdrop_filter=”none” column_shadow=”none” column_border_radius=”none” column_link_target=”_self” column_position=”default” gradient_direction=”left_to_right” overlay_strength=”0.3″ width=”1/3″ tablet_width_inherit=”default” animation_type=”default” bg_image_animation=”none” border_type=”simple” column_border_width=”none” column_border_style=”solid”][vc_column_text css=”.vc_custom_1682333156758{margin-bottom: -20px !important;}”]\nFacilitator\nSwami Anand Arun \n[/vc_column_text][divider line_type=”Full Width Line” line_thickness=”1″ divider_color=”extra-color-1″ animate=”yes” custom_height=”50″][vc_column_text]\nIn-person/Online\nIn-person \n[/vc_column_text][divider line_type=”Full Width Line” line_thickness=”1″ divider_color=”extra-color-1″ animate=”yes” custom_height=”50″][vc_column_text]\nLanguage\nNepali/English/Hindi \n[/vc_column_text][divider line_type=”Full Width Line” line_thickness=”1″ divider_color=”extra-color-1″ animate=”yes” custom_height=”50″][vc_column_text]\nContribution\nCall for inquiry \n[/vc_column_text][divider line_type=”Full Width Line” line_thickness=”1″ divider_color=”extra-color-1″ animate=”yes” custom_height=”50″][vc_column_text]\ncontact information\nosho.tapoban@gmail.com \n[/vc_column_text][/vc_column][/vc_row]
URL:https://tapoban.com/event/6th-osho-mega-meditation-camp-mumbai/
LOCATION:Gagangiri Maharaj Ashram\, Khopoli\, Gagangiri Ashram\, NH 48\, Laxminagar\, Khopoli\, Maharashtra 410204\, Khopoli\, Maharashtra\, 410204\, India
ORGANIZER;CN="Swami Anand Arun":MAILTO:osho.tapoban@gmail.com
END:VEVENT
END:VCALENDAR