BEGIN:VCALENDAR
VERSION:2.0
PRODID:-//Tapoban - ECPv6.9.0//NONSGML v1.0//EN
CALSCALE:GREGORIAN
METHOD:PUBLISH
X-ORIGINAL-URL:https://tapoban.com
X-WR-CALDESC:Events for Tapoban
REFRESH-INTERVAL;VALUE=DURATION:PT1H
X-Robots-Tag:noindex
X-PUBLISHED-TTL:PT1H
BEGIN:VTIMEZONE
TZID:Asia/Kathmandu
BEGIN:STANDARD
TZOFFSETFROM:+0545
TZOFFSETTO:+0545
TZNAME:+0545
DTSTART:20250101T000000
END:STANDARD
END:VTIMEZONE
BEGIN:VEVENT
DTSTART;VALUE=DATE:20250609
DTEND;VALUE=DATE:20250702
DTSTAMP:20260423T161730
CREATED:20250114T155609Z
LAST-MODIFIED:20250114T155609Z
UID:10000095-1749427200-1751414399@tapoban.com
SUMMARY:21-Day Mystic Rose Therapy (June 2025)
DESCRIPTION:[vc_row type=”in_container” full_screen_row_position=”middle” column_margin=”default” column_direction=”default” column_direction_tablet=”default” column_direction_phone=”default” scene_position=”center” text_color=”dark” text_align=”left” row_border_radius=”none” row_border_radius_applies=”bg” overflow=”visible” overlay_strength=”0.3″ gradient_direction=”left_to_right” shape_divider_position=”bottom” bg_image_animation=”none”][vc_column column_padding=”no-extra-padding” column_padding_tablet=”inherit” column_padding_phone=”inherit” column_padding_position=”all” column_element_direction_desktop=”default” column_element_spacing=”default” desktop_text_alignment=”default” tablet_text_alignment=”default” phone_text_alignment=”default” background_color_opacity=”1″ background_hover_color_opacity=”1″ column_backdrop_filter=”none” column_shadow=”none” column_border_radius=”none” column_link_target=”_self” column_position=”default” gradient_direction=”left_to_right” overlay_strength=”0.3″ width=”2/3″ tablet_width_inherit=”default” animation_type=”default” bg_image_animation=”none” border_type=”simple” column_border_width=”none” column_border_style=”solid”][vc_row_inner column_margin=”default” column_direction=”default” column_direction_tablet=”default” column_direction_phone=”default” text_align=”left” row_position=”default” row_position_tablet=”inherit” row_position_phone=”inherit” overflow=”visible” pointer_events=”all”][vc_column_inner column_padding=”no-extra-padding” column_padding_tablet=”inherit” column_padding_phone=”inherit” column_padding_position=”all” column_element_direction_desktop=”default” column_element_spacing=”default” desktop_text_alignment=”default” tablet_text_alignment=”default” phone_text_alignment=”default” background_color_opacity=”1″ background_hover_color_opacity=”1″ column_backdrop_filter=”none” column_shadow=”none” column_border_radius=”none” column_link_target=”_self” overflow=”visible” gradient_direction=”left_to_right” overlay_strength=”0.3″ width=”1/2″ tablet_width_inherit=”default” animation_type=”default” bg_image_animation=”none” border_type=”simple” column_border_width=”none” column_border_style=”solid” column_padding_type=”default” gradient_type=”default” offset=”vc_hidden-lg vc_hidden-md vc_hidden-sm vc_hidden-xs”][vc_column_text]9-Day Osho Mystic Rose Therapy: Laugh\, cry and let the wounds of the past melt into silence. Osho Mystic Rose gives you this opportunity. It is a process that lasts 21 days. For 21 days\,[/vc_column_text][/vc_column_inner][vc_column_inner column_padding=”no-extra-padding” column_padding_tablet=”inherit” column_padding_phone=”inherit” column_padding_position=”all” column_element_direction_desktop=”default” column_element_spacing=”default” desktop_text_alignment=”right” tablet_text_alignment=”default” phone_text_alignment=”default” background_color_opacity=”1″ background_hover_color_opacity=”1″ column_backdrop_filter=”none” column_shadow=”none” column_border_radius=”none” column_link_target=”_self” overflow=”visible” gradient_direction=”left_to_right” overlay_strength=”0.3″ width=”1/2″ tablet_width_inherit=”default” animation_type=”default” bg_image_animation=”none” border_type=”simple” column_border_width=”none” column_border_style=”solid” column_padding_type=”default” gradient_type=”default”][vc_column_text css=”” text_direction=”default”]\n                    \n                \n        \n\n            \n                \n                                    \n                \n                    \n                        Osho Tapoban\n                        \n                        Online\n                    \n                    \n                    WA : +9779847807082\n                    Need Help? Chat us via WhatsApp\n                \n                Chat\n            \n        \n                                    \n        [/vc_column_text][/vc_column_inner][/vc_row_inner][vc_column_text css=”” text_direction=”default”]\nJune 9th Arrival\, July 1st Departure\, 2025\nLaugh\, cry and let the wounds of the past melt into silence. Osho Mystic Rose gives you this opportunity. It is a process that lasts 21 days. For 21 days\, you laugh 3 hours a day for 7 days\, you cry 3 hours a day for 7 days\, then you sit in silence 3 hours a day for 7 days. \nEach time an experience is not fully lived in the present it leaves a residue in the unconscious. All that remains in the unconscious stays there\, pending\, waiting for an opportunity to be expressed\, accepted and solved. It could be a small thing or something meaningful\, that stays there\, as a scar\, and blocks our natural ability to flower to our full potential. \nWhen we allow ourselves to laugh all our laughter\, to cry all our tears and we allow unlived silence to be experienced\, we let the whole to flow freely\, to be lived now and to be resolved forever. \n[/vc_column_text][divider line_type=”No Line” custom_height=”30px”][vc_column_text]\nClick here to learn more about 9-Day Osho Mystic Rose Therapy\n[/vc_column_text][vc_row_inner column_margin=”default” column_direction=”default” column_direction_tablet=”default” column_direction_phone=”default” text_align=”left” row_position=”default” row_position_tablet=”inherit” row_position_phone=”inherit” overflow=”visible” pointer_events=”all”][vc_column_inner column_padding=”no-extra-padding” column_padding_tablet=”inherit” column_padding_phone=”inherit” column_padding_position=”all” column_element_direction_desktop=”default” column_element_spacing=”default” desktop_text_alignment=”default” tablet_text_alignment=”default” phone_text_alignment=”default” background_color_opacity=”1″ background_hover_color_opacity=”1″ column_backdrop_filter=”none” column_shadow=”none” column_border_radius=”none” column_link_target=”_self” overflow=”visible” gradient_direction=”left_to_right” overlay_strength=”0.3″ width=”1/1″ tablet_width_inherit=”default” animation_type=”default” bg_image_animation=”none” border_type=”simple” column_border_width=”none” column_border_style=”solid”][divider line_type=”No Line” custom_height=”30px”][vc_column_text css=”” text_direction=”default”]\n                    \n                \n        \n\n            \n                \n                                    \n                \n                    \n                        Osho Tapoban\n                        \n                        Online\n                    \n                    \n                    WA : +9779847807082\n                    Need Help? Chat us via WhatsApp\n                \n                Chat\n            \n        \n                                    \n        [/vc_column_text][/vc_column_inner][/vc_row_inner][/vc_column][vc_column column_padding=”no-extra-padding” column_padding_tablet=”inherit” column_padding_phone=”inherit” column_padding_position=”all” column_element_direction_desktop=”default” column_element_spacing=”default” desktop_text_alignment=”default” tablet_text_alignment=”default” phone_text_alignment=”default” background_color_opacity=”1″ background_hover_color_opacity=”1″ column_backdrop_filter=”none” column_shadow=”none” column_border_radius=”none” column_link_target=”_self” column_position=”default” gradient_direction=”left_to_right” overlay_strength=”0.3″ width=”1/3″ tablet_width_inherit=”default” animation_type=”default” bg_image_animation=”none” border_type=”simple” column_border_width=”none” column_border_style=”solid”][vc_column_text css=”.vc_custom_1682332734997{margin-bottom: -20px !important;}”]\nFacilitator\nSwami Dhyan Rishi \n[/vc_column_text][divider line_type=”Full Width Line” line_thickness=”1″ divider_color=”extra-color-1″ animate=”yes” custom_height=”50″][vc_column_text]\nIn-person/Online\nIn-person \n[/vc_column_text][divider line_type=”Full Width Line” line_thickness=”1″ divider_color=”extra-color-1″ animate=”yes” custom_height=”50″][vc_column_text]\nLanguage\nNepali/English \n[/vc_column_text][divider line_type=”Full Width Line” line_thickness=”1″ divider_color=”extra-color-1″ animate=”yes” custom_height=”50″][vc_column_text]\nContribution\nCall or WhatsApp +977 9847807082 \n[/vc_column_text][divider line_type=”Full Width Line” line_thickness=”1″ divider_color=”extra-color-1″ animate=”yes” custom_height=”50″][vc_column_text]\ncontact information\nosho.tapoban@gmail.com \n[/vc_column_text][/vc_column][/vc_row]
URL:https://tapoban.com/event/21-day-mystic-rose-therapy-june-2025/
LOCATION:Osho Tapoban\, Osho Tapoban\, Nagarjun Hills\, Kathmandu\, Bagmati Province\, Nepal
CATEGORIES:9-Day Osho Mystic Rose Therapy
ATTACH;FMTTYPE=image/jpeg:https://tapoban-website-upload.s3.ap-south-1.amazonaws.com/wp-content/uploads/2025/01/14213825/2025-Mystic-Rose-Therapy_5.jpg
ORGANIZER;CN="Swami Dhyan Rishi":MAILTO:osho.tapoban@gmail.com
END:VEVENT
BEGIN:VEVENT
DTSTART;VALUE=DATE:20250701
DTEND;VALUE=DATE:20250710
DTSTAMP:20260423T161730
CREATED:20250114T163442Z
LAST-MODIFIED:20250114T163457Z
UID:10000103-1751328000-1752105599@tapoban.com
SUMMARY:7 Days No Mind Therapy (July 2025)
DESCRIPTION:[vc_row type=”in_container” full_screen_row_position=”middle” column_margin=”default” column_direction=”default” column_direction_tablet=”default” column_direction_phone=”default” scene_position=”center” text_color=”dark” text_align=”left” row_border_radius=”none” row_border_radius_applies=”bg” overflow=”visible” overlay_strength=”0.3″ gradient_direction=”left_to_right” shape_divider_position=”bottom” bg_image_animation=”none”][vc_column column_padding=”no-extra-padding” column_padding_tablet=”inherit” column_padding_phone=”inherit” column_padding_position=”all” column_element_direction_desktop=”default” column_element_spacing=”default” desktop_text_alignment=”default” tablet_text_alignment=”default” phone_text_alignment=”default” background_color_opacity=”1″ background_hover_color_opacity=”1″ column_backdrop_filter=”none” column_shadow=”none” column_border_radius=”none” column_link_target=”_self” column_position=”default” gradient_direction=”left_to_right” overlay_strength=”0.3″ width=”2/3″ tablet_width_inherit=”default” animation_type=”default” bg_image_animation=”none” border_type=”simple” column_border_width=”none” column_border_style=”solid”][vc_row_inner column_margin=”default” column_direction=”default” column_direction_tablet=”default” column_direction_phone=”default” text_align=”left” row_position=”default” row_position_tablet=”inherit” row_position_phone=”inherit” overflow=”visible” pointer_events=”all”][vc_column_inner column_padding=”no-extra-padding” column_padding_tablet=”inherit” column_padding_phone=”inherit” column_padding_position=”all” column_element_direction_desktop=”default” column_element_spacing=”default” desktop_text_alignment=”default” tablet_text_alignment=”default” phone_text_alignment=”default” background_color_opacity=”1″ background_hover_color_opacity=”1″ column_backdrop_filter=”none” column_shadow=”none” column_border_radius=”none” column_link_target=”_self” overflow=”visible” gradient_direction=”left_to_right” overlay_strength=”0.3″ width=”1/2″ tablet_width_inherit=”default” animation_type=”default” bg_image_animation=”none” border_type=”simple” column_border_width=”none” column_border_style=”solid”][/vc_column_inner][vc_column_inner column_padding=”no-extra-padding” column_padding_tablet=”inherit” column_padding_phone=”inherit” column_padding_position=”all” column_element_direction_desktop=”default” column_element_spacing=”default” desktop_text_alignment=”right” tablet_text_alignment=”default” phone_text_alignment=”default” background_color_opacity=”1″ background_hover_color_opacity=”1″ column_backdrop_filter=”none” column_shadow=”none” column_border_radius=”none” column_link_target=”_self” overflow=”visible” gradient_direction=”left_to_right” overlay_strength=”0.3″ width=”1/2″ tablet_width_inherit=”default” animation_type=”default” bg_image_animation=”none” border_type=”simple” column_border_width=”none” column_border_style=”solid” column_padding_type=”default” gradient_type=”default”][vc_column_text css=”” text_direction=”default”]\n                    \n                \n        \n\n            \n                \n                                    \n                \n                    \n                        Osho Tapoban\n                        \n                        Online\n                    \n                    \n                    WA : +9779847807082\n                    Need Help? Chat us via WhatsApp\n                \n                Chat\n            \n        \n                                    \n        [/vc_column_text][/vc_column_inner][/vc_row_inner][nectar_single_testimonial testimonial_style=”small_modern” color=”Default” quote=”I am dealing with the contemporary man\, who is the most restless being that has ever evolved on the earth. But people do become silent; you just have to allow them to throw out their madness\, insanity\, then they themselves become silent.” name=”Osho”][vc_column_text css=”” text_direction=”default”]July 1st Arrival\, July  9th Departure\, 2025 \nThis meditative therapy can jet speed to your process to clean the junk of the past memories\, make you feel lighter & help tremendously to enter into silent meditation. \n“This 7 days process of 2 hours everyday\, coupled with Osho Dynamic\, Kundalini & White Robe Meditation\, if done with totality & determination can bring life transforming results” \nBe guided through an incredible process of personal transformation; unburdening yourself from repressed energies and slipping into natural silence and calmness. Meditation therapy “No Mind” is a scientific and magnificent energy releasing process that cleanses and de-stress the mind\, creating a deeper space of meditation. The seven-day retreat will be led by Swami Krishna Mohan. Register Now for this phenomenal process! \n[/vc_column_text][divider line_type=”No Line” custom_height=”20″][image_with_animation image_url=”2541″ image_size=”full” animation_type=”entrance” animation=”None” animation_movement_type=”transform_y” hover_animation=”none” alignment=”” border_radius=”none” box_shadow=”none” image_loading=”default” max_width=”100%” max_width_mobile=”default”][divider line_type=”No Line” custom_height=”20″][vc_column_text]\nClick here to learn more about 7 Days of No Mind Therapy.\n[/vc_column_text][divider line_type=”No Line” custom_height=”20″][vc_row_inner column_margin=”default” column_direction=”default” column_direction_tablet=”default” column_direction_phone=”default” text_align=”left” row_position=”default” row_position_tablet=”inherit” row_position_phone=”inherit” overflow=”visible” pointer_events=”all”][vc_column_inner column_padding=”no-extra-padding” column_padding_tablet=”inherit” column_padding_phone=”inherit” column_padding_position=”all” column_element_direction_desktop=”default” column_element_spacing=”default” desktop_text_alignment=”default” tablet_text_alignment=”default” phone_text_alignment=”default” background_color_opacity=”1″ background_hover_color_opacity=”1″ column_backdrop_filter=”none” column_shadow=”none” column_border_radius=”none” column_link_target=”_self” overflow=”visible” gradient_direction=”left_to_right” overlay_strength=”0.3″ width=”1/1″ tablet_width_inherit=”default” animation_type=”default” bg_image_animation=”none” border_type=”simple” column_border_width=”none” column_border_style=”solid”][divider line_type=”No Line” custom_height=”30px”][vc_column_text css=”” text_direction=”default”]\n                    \n                \n        \n\n            \n                \n                                    \n                \n                    \n                        Osho Tapoban\n                        \n                        Online\n                    \n                    \n                    WA : +9779847807082\n                    Need Help? Chat us via WhatsApp\n                \n                Chat\n            \n        \n                                    \n        [/vc_column_text][/vc_column_inner][/vc_row_inner][/vc_column][vc_column column_padding=”no-extra-padding” column_padding_tablet=”inherit” column_padding_phone=”inherit” column_padding_position=”all” column_element_direction_desktop=”default” column_element_spacing=”default” desktop_text_alignment=”default” tablet_text_alignment=”default” phone_text_alignment=”default” background_color_opacity=”1″ background_hover_color_opacity=”1″ column_backdrop_filter=”none” column_shadow=”none” column_border_radius=”none” column_link_target=”_self” column_position=”default” gradient_direction=”left_to_right” overlay_strength=”0.3″ width=”1/3″ tablet_width_inherit=”default” animation_type=”default” bg_image_animation=”none” border_type=”simple” column_border_width=”none” column_border_style=”solid”][vc_column_text css=”.vc_custom_1682333376208{margin-bottom: -20px !important;}”]\nFacilitator\nSwami Krishna Mohan \n[/vc_column_text][divider line_type=”Full Width Line” line_thickness=”1″ divider_color=”extra-color-1″ animate=”yes” custom_height=”50″][vc_column_text]\nIn-person/Online\nIn-person \n[/vc_column_text][divider line_type=”Full Width Line” line_thickness=”1″ divider_color=”extra-color-1″ animate=”yes” custom_height=”50″][vc_column_text]\nLanguage\nEnglish/Hindi/Nepali \n[/vc_column_text][divider line_type=”Full Width Line” line_thickness=”1″ divider_color=”extra-color-1″ animate=”yes” custom_height=”50″][vc_column_text]\nContribution\nCall or WhatsApp +977 9847807082 \n[/vc_column_text][divider line_type=”Full Width Line” line_thickness=”1″ divider_color=”extra-color-1″ animate=”yes” custom_height=”50″][vc_column_text]\ncontact information\nosho.tapoban@gmail.com \n[/vc_column_text][/vc_column][/vc_row]
URL:https://tapoban.com/event/7-days-no-mind-therapy-july-2025/
LOCATION:Osho Tapoban\, Osho Tapoban\, Nagarjun Hills\, Kathmandu\, Bagmati Province\, Nepal
CATEGORIES:7 Days OSHO No-Mind Therapy
ATTACH;FMTTYPE=image/jpeg:https://tapoban-website-upload.s3.ap-south-1.amazonaws.com/wp-content/uploads/2025/01/14221409/2025-No-Mind-Therapy_7.jpg
ORGANIZER;CN="Swami Krishna Mohan":MAILTO:osho.tapoban@gmail.com
END:VEVENT
END:VCALENDAR